BEGIN:VCALENDAR
VERSION:2.0
PRODID:Canton, GA Calendar Creator
METHOD:PUBLISH
BEGIN:VEVENT
DTSTAMP:20230201T113538
DTSTART:20230218T173000
DTEND:20230218T193000
SUMMARY:Aspire- Disney's The Little Mermaid Jr
DESCRIPTION:<p>Aspire Dance Arts presents Disney's The Little Mermaid Jr</p><p>Tickets available at&nbsp;<a href="http://cantonga.governmentwindow.com/estore/theater/canton-theatre.html" target="_blank">http://cantonga.governmentwindow.com/estore/theater/canton-theatre.html</a></p><p></p>
X-ALT-DESC;FMTTYPE=text/html:<p>Aspire Dance Arts presents Disney's The Little Mermaid Jr</p><p>Tickets available at&nbsp;<a href="http://cantonga.governmentwindow.com/estore/theater/canton-theatre.html" target="_blank">http://cantonga.governmentwindow.com/estore/theater/canton-theatre.html</a></p><p></p>
LOCATION:Canton Theatre\, 171 E Main St. Canton\, Georgia 30114
CLASS:PUBLIC
END:VEVENT
END:VCALENDAR
