BEGIN:VCALENDAR
VERSION:2.0
PRODID:Canton, GA Calendar Creator
METHOD:PUBLISH
BEGIN:VEVENT
DTSTAMP:20230127T142703
DTSTART:20230325T193000
DTEND:20230325T213000
SUMMARY:Once Upon a Mattress- Presented by Lolek's Storytellers
DESCRIPTION:<div dir="auto">This <a tabindex="-1"></a>outrageously hilarious musical is based on the fairytale The Princess and the Pea.</div><div dir="auto">Many moons ago in a far off land, an overbearing queen declares that no one in the land may wed until a worthy bride is found for her son. Princesses come from far and wide, but none can pass the impossible tests the queen presents them with, that is, until the 'shy' Princess Winnifred arrives and excites all in the castle with her quick wit and boisterous personality. Will she pass the queen's test? Will Lady Larkin and Sir Harry ever be able to wed? With catchy tunes and fun dance numbers, this show is full of shenanigans for the whole family to enjoy.</div><p>&nbsp;</p><p>Presented by Lolek's Storytellers. Tickets available at&nbsp;<a href="http://loleks.ticketleap.com/" target="_blank">http://loleks.ticketleap.com/</a></p><p></p>
X-ALT-DESC;FMTTYPE=text/html:<div dir="auto">This <a tabindex="-1"></a>outrageously hilarious musical is based on the fairytale The Princess and the Pea.</div><div dir="auto">Many moons ago in a far off land, an overbearing queen declares that no one in the land may wed until a worthy bride is found for her son. Princesses come from far and wide, but none can pass the impossible tests the queen presents them with, that is, until the 'shy' Princess Winnifred arrives and excites all in the castle with her quick wit and boisterous personality. Will she pass the queen's test? Will Lady Larkin and Sir Harry ever be able to wed? With catchy tunes and fun dance numbers, this show is full of shenanigans for the whole family to enjoy.</div><p>&nbsp;</p><p>Presented by Lolek's Storytellers. Tickets available at&nbsp;<a href="http://loleks.ticketleap.com/" target="_blank">http://loleks.ticketleap.com/</a></p><p></p>
LOCATION:Canton Theatre\, 171 E Main St. Canton\, Georgia 30114
CLASS:PUBLIC
END:VEVENT
END:VCALENDAR
